BEGIN:VCALENDAR
VERSION:2.0
PRODID:-//jEvents 2.0 for Joomla//EN
CALSCALE:GREGORIAN
METHOD:PUBLISH
BEGIN:VEVENT
UID:1b72d66a85abe51bbcd2b92ae3c2e3fe
CATEGORIES:RSF S-O-W
CREATED:20240327T212407
SUMMARY:Stammtisch
LOCATION:Landgasthof Kaiser Bad Wünnenberg-Leiberg
DESCRIPTION:
DTSTAMP:20260423T082810
DTSTART:20240821T150000
SEQUENCE:0
TRANSP:OPAQUE
END:VEVENT
END:VCALENDAR