BEGIN:VCALENDAR
VERSION:2.0
PRODID:-//jEvents 2.0 for Joomla//EN
CALSCALE:GREGORIAN
METHOD:PUBLISH
BEGIN:VEVENT
UID:4ab5d4e7e753c4435d70a9cb7c3d0459@feiertage-deutschland.de
CATEGORIES:Feiertag
CREATED:20251220T144845
SUMMARY:Mariä Himmelfahrt (§)
LOCATION:BY\,SL
DESCRIPTION:Mariä Himmelfahrt ist ein gesetzlicher Feiertag in folgenden Bundesländern:
  Saarland, Bayern (in Gemeinden mit überwiegend katholischer Bevölkerung).
DTSTAMP:20260420T183236
DTSTART;VALUE=DATE:20250815
SEQUENCE:0
TRANSP:OPAQUE
END:VEVENT
END:VCALENDAR