BEGIN:VCALENDAR
VERSION:2.0
PRODID:-//jEvents 2.0 for Joomla//EN
CALSCALE:GREGORIAN
METHOD:PUBLISH
BEGIN:VEVENT
UID:1b72d66a85abe51bbcd2b92ae3c2e3fe
CATEGORIES:RSF S-O-W
CREATED:19700101T010000
SUMMARY:Stammtisch
LOCATION:Landgasthof Kaiser Bad Wünnenberg-Leiberg
DESCRIPTION:
DTSTAMP:20260421T001241
DTSTART:20240417T150000
SEQUENCE:0
RRULE:FREQ=MONTHLY;UNTIL=20241017T000000Z;INTERVAL=1;BYDAY=+3WE
EXDATE:20241016T150000
TRANSP:OPAQUE
END:VEVENT
END:VCALENDAR