BEGIN:VCALENDAR
VERSION:2.0
PRODID:-//jEvents 2.0 for Joomla//EN
CALSCALE:GREGORIAN
METHOD:PUBLISH
BEGIN:VEVENT
UID:c74cb9d6d6a3937a19b03581001afb38
CATEGORIES:Bavarian Cruiser
CREATED:20260111T220609
SUMMARY:Stammtisch BavarianCruiser
LOCATION:Wettelsheimer Keller
DESCRIPTION:am 17.05.2026 treffen sich die BavarianCruiser am Wettelsheimer Keller bei 
 Treuchtlingen Treffpunkt ab 11.00 Uhr. Gemeinsames Mittagessen, SmallTalk u
 nd gute Laune
DTSTAMP:20260420T132209
DTSTART;VALUE=DATE:20260517
DTEND;VALUE=DATE:20260518
SEQUENCE:0
TRANSP:OPAQUE
END:VEVENT
END:VCALENDAR