BEGIN:VCALENDAR
VERSION:2.0
PRODID:-//jEvents 2.0 for Joomla//EN
CALSCALE:GREGORIAN
METHOD:PUBLISH
BEGIN:VEVENT
UID:e1cef564bc8415d0b0c250d7899b1cf7@feiertage-deutschland.de
CATEGORIES:Feiertag
CREATED:20251220T144856
SUMMARY:Buß- und Bettag (§)
LOCATION:SN
DESCRIPTION:Der Buß- und Bettag ist in Sachsen ein gesetzlicher Feiertag. In Bayern ist
  der Buß- und Bettag unterrichtsfrei.
DTSTAMP:20260421T163030
DTSTART;VALUE=DATE:20271117
SEQUENCE:0
TRANSP:OPAQUE
END:VEVENT
END:VCALENDAR