BEGIN:VCALENDAR
VERSION:2.0
PRODID:-//jEvents 2.0 for Joomla//EN
CALSCALE:GREGORIAN
METHOD:PUBLISH
BEGIN:VEVENT
UID:e6771ca4dfa24358386493d3f7a53fb7@feiertage-deutschland.de
CATEGORIES:Feiertag
CREATED:20251220T144855
SUMMARY:Buß- und Bettag (§)
LOCATION:SN
DESCRIPTION:Der Buß- und Bettag ist in Sachsen ein gesetzlicher Feiertag. In Bayern ist
  der Buß- und Bettag unterrichtsfrei.
DTSTAMP:20260420T175047
DTSTART;VALUE=DATE:20241120
SEQUENCE:0
TRANSP:OPAQUE
END:VEVENT
END:VCALENDAR