BEGIN:VCALENDAR
VERSION:2.0
PRODID:-//jEvents 2.0 for Joomla//EN
CALSCALE:GREGORIAN
METHOD:PUBLISH
BEGIN:VEVENT
UID:97f762164d8ced5fc9cd019870d7ee9d@feiertage-deutschland.de
CATEGORIES:Feiertag
CREATED:20251220T144855
SUMMARY:Fronleichnam (§)
LOCATION:BW\,BY\,HE\,NW\,RP\,SL\,SN\,TH
DESCRIPTION:Fronleichnam ist in folgenden Bundesländern ein gesetzlicher Feiertag: Bade
 n-Württemberg, Bayern, Hessen, Nordrhein-Westfalen, Rheinland-Pfalz, Saarla
 nd. In Sachsen und Thüringen ist Fronleichnam nur in bestimmten Gemeinden e
 in gesetzlicher Feiertag.
DTSTAMP:20260425T165347
DTSTART;VALUE=DATE:20240530
SEQUENCE:0
TRANSP:OPAQUE
END:VEVENT
END:VCALENDAR