BEGIN:VCALENDAR
VERSION:2.0
PRODID:-//jEvents 2.0 for Joomla//EN
CALSCALE:GREGORIAN
METHOD:PUBLISH
BEGIN:VEVENT
UID:bd875c44f647511cfc1491701827174e@feiertage-deutschland.de
CATEGORIES:Feiertag
CREATED:20251220T144855
SUMMARY:Pfingstmontag (§)
LOCATION:Alle Bundesländer
DESCRIPTION:Pfingstmontag ist in allen deutschen Bundesländern ein gesetzlicher Feierta
 g.
DTSTAMP:20260425T195208
DTSTART;VALUE=DATE:20240520
SEQUENCE:0
TRANSP:OPAQUE
END:VEVENT
END:VCALENDAR