BEGIN:VCALENDAR
VERSION:2.0
PRODID:-//jEvents 2.0 for Joomla//EN
CALSCALE:GREGORIAN
METHOD:PUBLISH
BEGIN:VEVENT
UID:34efe49e8bc9715bc9fe2ae98d8e19cc@feiertage-deutschland.de
CATEGORIES:Feiertag
CREATED:20251220T144855
SUMMARY:Pfingstsonntag (§)
LOCATION:BB
DESCRIPTION:Pfingstsonntag ist in Brandenburg ein gesetzlicher Feiertag
DTSTAMP:20260425T232238
DTSTART;VALUE=DATE:20240519
SEQUENCE:0
TRANSP:OPAQUE
END:VEVENT
END:VCALENDAR