BEGIN:VCALENDAR
VERSION:2.0
PRODID:-//jEvents 2.0 for Joomla//EN
CALSCALE:GREGORIAN
METHOD:PUBLISH
BEGIN:VEVENT
UID:1240b3cb77024c7cad16ae3c17c6dc33@feiertage-deutschland.de
CATEGORIES:Feiertag
CREATED:20251220T144853
SUMMARY:Buß- und Bettag (§)
LOCATION:SN
DESCRIPTION:Der Buß- und Bettag ist in Sachsen ein gesetzlicher Feiertag. In Bayern ist
  der Buß- und Bettag unterrichtsfrei.
DTSTAMP:20260422T001320
DTSTART;VALUE=DATE:20211117
SEQUENCE:0
TRANSP:OPAQUE
END:VEVENT
END:VCALENDAR