BEGIN:VCALENDAR
VERSION:2.0
PRODID:-//jEvents 2.0 for Joomla//EN
CALSCALE:GREGORIAN
METHOD:PUBLISH
BEGIN:VEVENT
UID:643da33bfe8c7009c3bcc7e8c02b4d99@feiertage-deutschland.de
CATEGORIES:Feiertag
CREATED:20251220T144847
SUMMARY:Reformationstag (§)
LOCATION:BB\,HB\,HH\,MV\,NI\,SH\,SN\,ST\,TH
DESCRIPTION:Der Reformationstag ist in folgenden Bundesländern ein gesetzlicher Feierta
 g: Brandenburg, Mecklenburg-Vorpommern, Sachsen, Sachsen-Anhalt, Thüringen 
 und seit 2018 auch in Schleswig-Holstein, Hamburg, Bremen und Niedersachsen
 .
DTSTAMP:20260420T104036
DTSTART;VALUE=DATE:20261031
SEQUENCE:0
TRANSP:OPAQUE
END:VEVENT
END:VCALENDAR