BEGIN:VCALENDAR
VERSION:2.0
PRODID:-//jEvents 2.0 for Joomla//EN
CALSCALE:GREGORIAN
METHOD:PUBLISH
BEGIN:VEVENT
UID:4ab5d4e7e753c4435d70a9cb7c3d0459@feiertage-deutschland.de
CATEGORIES:Feiertag
CREATED:19700101T010000
SUMMARY:Mariä Himmelfahrt (§)
LOCATION:BY\,SL
DESCRIPTION:Mariä Himmelfahrt ist ein gesetzlicher Feiertag in folgenden Bundesländern:
  Saarland, Bayern (in Gemeinden mit überwiegend katholischer Bevölkerung).
DTSTAMP:20260420T160903
DTSTART;VALUE=DATE:20100815
SEQUENCE:0
RRULE:FREQ=YEARLY;UNTIL=20261212T000000Z;INTERVAL=1
TRANSP:OPAQUE
END:VEVENT
END:VCALENDAR