BEGIN:VCALENDAR
VERSION:2.0
PRODID:-//jEvents 2.0 for Joomla//EN
CALSCALE:GREGORIAN
METHOD:PUBLISH
BEGIN:VEVENT
UID:0779531cee3fc9fcae7d4d3050d250f2@feiertage-deutschland.de
CATEGORIES:Feiertag
CREATED:19700101T010000
SUMMARY:Frauentag (§)
LOCATION:BE
DESCRIPTION:Der Internationale Frauentag ist seit 2019 ein gesetzlicher Feiertag in Ber
 lin und seit 2023 in Mecklenburg-Vorpommern.
DTSTAMP:20260420T132154
DTSTART;VALUE=DATE:20190308
SEQUENCE:0
RRULE:FREQ=YEARLY;UNTIL=20261212T000000Z;INTERVAL=1
TRANSP:OPAQUE
END:VEVENT
END:VCALENDAR