BEGIN:VCALENDAR
VERSION:2.0
PRODID:-//jEvents 2.0 for Joomla//EN
CALSCALE:GREGORIAN
METHOD:PUBLISH
BEGIN:VEVENT
UID:07f4a227c147ea753093579813d8b034
CATEGORIES:Preussen V4
CREATED:20250817T120142
SUMMARY:Stammtischausfahrt
DESCRIPTION:
DTSTAMP:20260420T222338
DTSTART;VALUE=DATE:20250824
DTEND;VALUE=DATE:20250825
SEQUENCE:0
TRANSP:OPAQUE
END:VEVENT
END:VCALENDAR