BEGIN:VCALENDAR
VERSION:2.0
PRODID:-//jEvents 2.0 for Joomla//EN
CALSCALE:GREGORIAN
METHOD:PUBLISH
BEGIN:VEVENT
UID:d4f856ae8cbf4a5a74d0172fdb7016de
CATEGORIES:Preussen V4
CREATED:20250223T130638
SUMMARY:Wichteln bei der Kradstaffel Anhalt
DESCRIPTION:
DTSTAMP:20260420T144855
DTSTART;VALUE=DATE:20251122
DTEND;VALUE=DATE:20251124
SEQUENCE:0
TRANSP:OPAQUE
END:VEVENT
END:VCALENDAR