BEGIN:VCALENDAR
VERSION:2.0
PRODID:-//jEvents 2.0 for Joomla//EN
CALSCALE:GREGORIAN
METHOD:PUBLISH
BEGIN:VEVENT
UID:554e8cb6e86409b517153ba106b97c15
CATEGORIES:Preussen V4
CREATED:20250223T130309
SUMMARY:Frankentreffen
DESCRIPTION:
DTSTAMP:20260420T221243
DTSTART;VALUE=DATE:20250806
DTEND;VALUE=DATE:20250812
SEQUENCE:0
TRANSP:OPAQUE
END:VEVENT
END:VCALENDAR