BEGIN:VCALENDAR
VERSION:2.0
PRODID:-//jEvents 2.0 for Joomla//EN
CALSCALE:GREGORIAN
METHOD:PUBLISH
BEGIN:VEVENT
UID:972cc18e1f6d1d23b5658afb00f22212
CATEGORIES:Star Cruisers Switzerland
CREATED:20241204T194035
SUMMARY:Generalversammlung SCS
LOCATION:Restaurant Chommle
DESCRIPTION:
DTSTAMP:20260420T112214
DTSTART:20251123T100000
DTEND:20251123T140000
SEQUENCE:0
TRANSP:OPAQUE
END:VEVENT
END:VCALENDAR