BEGIN:VCALENDAR
VERSION:2.0
PRODID:-//jEvents 2.0 for Joomla//EN
CALSCALE:GREGORIAN
METHOD:PUBLISH
BEGIN:VEVENT
UID:20861dac8ac07c8f354a29a486c8e11f
CATEGORIES:Krad Staffel Anhalt
CREATED:20240928T165802
SUMMARY:11. Jahresabschlusstreffen der Krad Staffel Anhalt
LOCATION:Sportheim "Kienfichten " Peusstraße
DESCRIPTION:
CONTACT:Diese E-Mail-Adresse ist vor Spambots geschützt! Zur Anzeige muss JavaScript eingeschaltet sein.  oder +4915234132746 WhatsApp/SMS
X-EXTRAINFO:Anmeldung zur Jahresabschlussfeier bis zum 23.10.2024 Plätze sind begrenzt.
  \nOrt: Sportheim "Kienfichten " Peusstraße 43 \nTermin am 23.11.24 - Begin
 n um 18.00 Uhr \nAchtung!!! Keine Kartenzahlung möglich. \n
DTSTAMP:20260420T160908
DTSTART;VALUE=DATE:20241123
DTEND;VALUE=DATE:20241124
SEQUENCE:0
TRANSP:OPAQUE
END:VEVENT
END:VCALENDAR