BEGIN:VCALENDAR
VERSION:2.0
PRODID:-//jEvents 2.0 for Joomla//EN
CALSCALE:GREGORIAN
METHOD:PUBLISH
BEGIN:VEVENT
UID:f52415639f8012ca40c6cfe1837bf035
CATEGORIES:Preussen V4
CREATED:20240717T171901
SUMMARY:Stammtischausfahrt der Preussen V4
LOCATION:Spinnerbrücke 
DESCRIPTION:
DTSTAMP:20260425T170507
DTSTART:20240914T083000
DTEND:20240914T140000
SEQUENCE:0
TRANSP:OPAQUE
END:VEVENT
END:VCALENDAR