BEGIN:VCALENDAR
VERSION:2.0
PRODID:-//jEvents 2.0 for Joomla//EN
CALSCALE:GREGORIAN
METHOD:PUBLISH
BEGIN:VEVENT
UID:d34620f1051265df0e40263438e4977a
CATEGORIES:Westfahlencruiser
CREATED:20240529T061705
SUMMARY:Stammtisch Westfalen Cruiser 
LOCATION:BOOTSHAUS in Hamm
DESCRIPTION:
DTSTAMP:20260425T135211
DTSTART;VALUE=DATE:20240609
DTEND;VALUE=DATE:20240610
SEQUENCE:0
TRANSP:OPAQUE
END:VEVENT
END:VCALENDAR