BEGIN:VCALENDAR
VERSION:2.0
PRODID:-//jEvents 2.0 for Joomla//EN
CALSCALE:GREGORIAN
METHOD:PUBLISH
BEGIN:VEVENT
UID:8b235b2b0351a57cf244a9ce4793e704
CATEGORIES:Bavarian Cruiser
CREATED:20240502T103602
SUMMARY:21. Frankentreffen bei Gichtl
LOCATION:Trailsdorf
DESCRIPTION:
X-EXTRAINFO:vom 07. - 10. August 2025 heißt es dann \n"20 Jahre Gichtltreffen"\nund som
 it das 21. Frankentreffen beim Gichtl.\n\n\nweitere Infos erfolgen zeitnah
DTSTAMP:20260420T222342
DTSTART;VALUE=DATE:20250807
DTEND;VALUE=DATE:20250811
SEQUENCE:0
TRANSP:OPAQUE
END:VEVENT
END:VCALENDAR