BEGIN:VCALENDAR
VERSION:2.0
PRODID:-//jEvents 2.0 for Joomla//EN
CALSCALE:GREGORIAN
METHOD:PUBLISH
BEGIN:VEVENT
UID:e5329f4c66b68d1d4820ff6498814b7f
CATEGORIES:Preussen V4
CREATED:20240401T131137
SUMMARY:Ausfahrt der preussenV4
DESCRIPTION:<p><span style="font-size: 18px;"><em><strong>Unsere Nächste Ausfahrt finde
 t am 20.07.2024 statt.</strong></em></span></p><p><span style="font-size: 1
 8px;"><em><strong>Treffpunkt an der HEM Tankstelle Schwanebeck, </strong></
 em></span></p><p><span style="font-size: 18px;"><em><strong>Abfahrt um 10:0
 0 Uhr</strong></em></span></p><p><span style="font-size: 18px;"><em><strong
 >Es geht für eine gemütliche Runde in die Schorfheide, Stefan hat da mal ne
  Tour gebastelt. </strong></em></span></p>
X-EXTRAINFO:nähere Infos über WhatsApp Gruppe preussenV4
DTSTAMP:20260420T194924
DTSTART;VALUE=DATE:20240720
DTEND;VALUE=DATE:20240721
SEQUENCE:0
TRANSP:OPAQUE
END:VEVENT
END:VCALENDAR