BEGIN:VCALENDAR
VERSION:2.0
PRODID:-//jEvents 2.0 for Joomla//EN
CALSCALE:GREGORIAN
METHOD:PUBLISH
BEGIN:VEVENT
UID:b18df49996efd82f6f49815a34b8d3c6
CATEGORIES:Preussen V4
CREATED:20240401T130944
SUMMARY:Ausfahrt preussenV4
DESCRIPTION:
X-EXTRAINFO:nähere Infos über WhatsApp Gruppe preussenV4
DTSTAMP:20260425T134718
DTSTART;VALUE=DATE:20240518
DTEND;VALUE=DATE:20240519
SEQUENCE:0
TRANSP:OPAQUE
END:VEVENT
END:VCALENDAR