BEGIN:VCALENDAR
VERSION:2.0
PRODID:-//jEvents 2.0 for Joomla//EN
CALSCALE:GREGORIAN
METHOD:PUBLISH
BEGIN:VEVENT
UID:adef83330d2df8c075f7ab358470f9f9
CATEGORIES:Star Cruisers Switzerland
CREATED:20240328T184739
SUMMARY:Generalversammlung
LOCATION:Restaurant Chommle
DESCRIPTION:
DTSTAMP:20260420T134929
DTSTART:20241117T100000
DTEND:20241117T140000
SEQUENCE:0
TRANSP:OPAQUE
END:VEVENT
END:VCALENDAR