BEGIN:VCALENDAR
VERSION:2.0
PRODID:-//jEvents 2.0 for Joomla//EN
CALSCALE:GREGORIAN
METHOD:PUBLISH
BEGIN:VEVENT
UID:4dc820ce91e36a5ad1691707a5a6dfd4
CATEGORIES:Letzebuerg
CREATED:20240328T184536
SUMMARY:Lux Treffen
DESCRIPTION:
DTSTAMP:20260420T190850
DTSTART;VALUE=DATE:20240717
DTEND;VALUE=DATE:20240722
SEQUENCE:0
TRANSP:OPAQUE
END:VEVENT
END:VCALENDAR