BEGIN:VCALENDAR
VERSION:2.0
PRODID:-//jEvents 2.0 for Joomla//EN
CALSCALE:GREGORIAN
METHOD:PUBLISH
BEGIN:VEVENT
UID:b13690daf9993b079f21953c278951db
CATEGORIES:Star Cruisers Switzerland
CREATED:20240328T184452
SUMMARY:Ausfahrt Rolf
DESCRIPTION:
DTSTAMP:20260425T122343
DTSTART;VALUE=DATE:20240609
DTEND;VALUE=DATE:20240610
SEQUENCE:0
TRANSP:OPAQUE
END:VEVENT
END:VCALENDAR