BEGIN:VCALENDAR
VERSION:2.0
PRODID:-//jEvents 2.0 for Joomla//EN
CALSCALE:GREGORIAN
METHOD:PUBLISH
BEGIN:VEVENT
UID:f0295106aefa97bffad5a9dc01a40954
CATEGORIES:Star Cruisers Switzerland
CREATED:20240328T184428
SUMMARY:Love Ride Dübendorf
LOCATION:Dübendorf
DESCRIPTION:Der Love Ride Switzerland ist eine Biker Benefizveranstaltung zu Gunsten mu
 skelkranker und beeinträchtigter Menschen.Der erzielte Erlös aus der Verans
 taltung, sei es aus dem Ticket- und Souvenirverkauf oder durch die Essens- 
 und Getränkeabgabe usw., kommt vollumfänglich den muskelkranken und beeintr
 ächtigten Menschen zugute. Dies ist nur dank den ehrenamtlich tätigen Helfe
 rinnen und Helfern am Veranstaltungswochenende und mit der grosszügigen Unt
 erstützung von zahlreichen Sponsoren möglich.Der Love Ride Switzerland ist 
 sowohl die grösste Benefizveranstaltung dieser Art in Europa. Herzlich will
 kommen sind jedoch auch Fahrerinnen und Fahrer anderer Marken sowie Besuche
 rinnen und Besucher ohne Motorrad. Den Höhepunkt des Tages bildet die Ausfa
 hrt der Bikes, der eigentliche «Love Ride».Der «Love Ride» findet in der Re
 gel am ersten Sonntag im Mai eines jeden Jahres statt* *Fällt der erste Son
 ntag im Mai auf den 1. Mai, findet der Love Ride am zweiten Sonntag im Mai 
 statt.
X-ALT-DESC;FMTTYPE=text/html:<h5 class="fusion-responsive-typography-calculated" data-fontsize="24" data
 -lineheight="36px">Der Love Ride Switzerland ist eine Biker Benefizveransta
 ltung <strong>zu Gunsten muskelkranker und beeinträchtigter Menschen</stron
 g>.</h5><h6 class="fusion-responsive-typography-calculated" data-fontsize="
 20" data-lineheight="30px">Der erzielte Erlös aus der Veranstaltung, sei es
  aus dem Ticket- und Souvenirverkauf oder durch die Essens- und Getränkeabg
 abe usw., kommt vollumfänglich den muskelkranken und beeinträchtigten Mensc
 hen zugute. Dies ist nur dank den ehrenamtlich tätigen Helferinnen und Helf
 ern am Veranstaltungswochenende und mit der grosszügigen Unterstützung von 
 zahlreichen Sponsoren möglich.</h6><h6 class="fusion-responsive-typography-
 calculated" data-fontsize="20" data-lineheight="30px">Der Love Ride Switzer
 land ist sowohl <strong>die grösste Benefizveranstaltung dieser Art in Euro
 pa</strong>. Herzlich willkommen sind jedoch auch Fahrerinnen und Fahrer an
 derer Marken sowie Besucherinnen und Besucher ohne Motorrad. Den Höhepunkt 
 des Tages bildet die Ausfahrt der Bikes, der eigentliche <strong>«Love Ride
 »</strong>.</h6><h6 class="fusion-responsive-typography-calculated" data-fo
 ntsize="20" data-lineheight="30px">Der <strong>«Love Ride»</strong> findet 
 in der Regel <strong>am ersten Sonntag im Mai eines jeden Jahres</strong> s
 tatt*</h6><div class="default-style"><div class="default-style"> </div></di
 v><div class="default-style">*Fällt der erste Sonntag im Mai auf den 1. Mai
 , findet der Love Ride am zweiten Sonntag im Mai statt.</div>
DTSTAMP:20260425T134733
DTSTART;VALUE=DATE:20240505
DTEND;VALUE=DATE:20240506
SEQUENCE:0
TRANSP:OPAQUE
END:VEVENT
END:VCALENDAR