BEGIN:VCALENDAR
VERSION:2.0
PRODID:-//jEvents 2.0 for Joomla//EN
CALSCALE:GREGORIAN
METHOD:PUBLISH
BEGIN:VEVENT
UID:955dc854a7e3f72fcc115667c4615362
CATEGORIES:Bavarian Cruiser
CREATED:20240328T184347
SUMMARY:Abschluss Stammtisch
DESCRIPTION:am 09.11.2024 machen wir unsere neuen Termine aus für 2025\n \nhierzu treff
 en wir uns wieder in Beilngries im Gasthaus Millipp. Ab 17.00 Uhr ist ein N
 ebenraum für uns reserviert.\nhttps://www.millipp.de/gasthof/ (https://www.
 millipp.de/gasthof/)\n
X-ALT-DESC;FMTTYPE=text/html:<p>am 09.11.2024 machen wir unsere neuen Termine aus für 2025</p><p> </p><p
 >hierzu treffen wir uns wieder in Beilngries im Gasthaus Millipp. Ab 17.00 
 Uhr ist ein Nebenraum für uns reserviert.</p><p><a href="https://www.millip
 p.de/gasthof/">https://www.millipp.de/gasthof/</a></p>
DTSTAMP:20260420T192933
DTSTART;VALUE=DATE:20241109
DTEND;VALUE=DATE:20241110
SEQUENCE:0
TRANSP:OPAQUE
END:VEVENT
END:VCALENDAR