BEGIN:VCALENDAR
VERSION:2.0
PRODID:-//jEvents 2.0 for Joomla//EN
CALSCALE:GREGORIAN
METHOD:PUBLISH
BEGIN:VEVENT
UID:9aa3d04b84537f98fa05287fe065ac0c
CATEGORIES:Bavarian Cruiser
CREATED:20240328T184253
SUMMARY:TSCHECHENRITT 2024
DESCRIPTION:<p>am 06.09. startet der Ritt über die Grenze nach Tschechien</p><p> </p><p
 >..... und zieht sich bis zum 09.09.</p><p>Interessierte Royalisten und son
 stige Motorradfahrer melden sich bitte bald möglichst bei Jaro. Die Plätze 
 zum Tschechenritt sind sehr begehrt und schon oftmals über Jahre hinweg "da
 uerabonniert".</p><p>Unser Quartier schlagen wir in Zluticè auf.</p><p>Wer 
 dabei ist, wird aber wieder ein unvergessliches Wochenende in Jaro's Heimat
  miterleben können.</p><p> </p>
DTSTAMP:20260425T233305
DTSTART;VALUE=DATE:20240906
DTEND;VALUE=DATE:20240910
SEQUENCE:0
TRANSP:OPAQUE
END:VEVENT
END:VCALENDAR