BEGIN:VCALENDAR
VERSION:2.0
PRODID:-//jEvents 2.0 for Joomla//EN
CALSCALE:GREGORIAN
METHOD:PUBLISH
BEGIN:VEVENT
UID:c01425af7a55c2d664ea0d6d1e50aa46
CATEGORIES:Bavarian Cruiser
CREATED:20240328T184134
SUMMARY:Stammtisch im Stiftland
DESCRIPTION:mittlerweile bereits zum 4. Mal geht es ins Stiftland.........genauer gesag
 t nach Konnersreuth. Hier empfängt uns Max zum Stammtisch in der nördlichen
  Oberpfalz. Gemütliche Stunden im Gasthof Schiml sowie in der benachbarten 
 Zoigl-Stube (https://zoiglstube-hofner.de/)  (hier gibt es auch eine Ferien
 wohnung) sind wieder garantiert.\nReservierungen der Zimmer nimmt im Gastho
 f Schiml (https://www.gasthof-schiml.de/index.php/de/) jeder selbst vor,...
 ... aber bitte beeilen. In den Sommermonaten ist der Gasthof bei Motorradfa
 hrern sehr beliebt.\n
X-ALT-DESC;FMTTYPE=text/html:<p>mittlerweile bereits zum 4. Mal geht es ins Stiftland.........genauer ge
 sagt nach Konnersreuth. Hier empfängt uns Max zum Stammtisch in der nördlic
 hen Oberpfalz. Gemütliche Stunden im Gasthof Schiml sowie in der benachbart
 en <a href="https://zoiglstube-hofner.de/" data-cke-saved-href="https://zoi
 glstube-hofner.de/">Zoigl-Stube</a>  (hier gibt es auch eine Ferienwohnung)
  sind wieder garantiert.</p><p>Reservierungen der Zimmer nimmt im <a href="
 https://www.gasthof-schiml.de/index.php/de/" data-cke-saved-href="https://w
 ww.gasthof-schiml.de/index.php/de/">Gasthof Schiml</a> jeder selbst vor,...
 ... aber bitte beeilen. In den Sommermonaten ist der Gasthof bei Motorradfa
 hrern sehr beliebt.</p>
DTSTAMP:20260420T144837
DTSTART;VALUE=DATE:20240712
DTEND;VALUE=DATE:20240713
SEQUENCE:0
TRANSP:OPAQUE
END:VEVENT
END:VCALENDAR