BEGIN:VCALENDAR
VERSION:2.0
PRODID:-//jEvents 2.0 for Joomla//EN
CALSCALE:GREGORIAN
METHOD:PUBLISH
BEGIN:VEVENT
UID:3ea6c1f43697b89d0b234f6a0b61df5b
CATEGORIES:Bavarian Cruiser
CREATED:20240328T184057
SUMMARY:Stammtisch
DESCRIPTION:<p>vom 21. - 23.06.2024 lädt uns Wolfgang in seine Heimat nach Cham ein.</p
 ><p>Zimmer organisiert sich jeder selbst. Hier 2 Links dazu</p><p><a href="
 http://www.pension-kaesbauer.de/" data-cke-saved-href="http://www.pension-k
 aesbauer.de">http://www.pension-kaesbauer.de</a></p><p><a href="http://www.
 hotel-am-regenbogen.de/" data-cke-saved-href="http://www.hotel-am-regenboge
 n.de">http://www.hotel-am-regenbogen.de</a></p><p> </p><p>Die Ausfahrt geht
  rund um den Hohen Bogen bei Furth im Wald und Neukirchen beim Heiligen Blu
 t.</p><p>Mittagstisch wird am Samstag in Rimbach in der <a href="https://ww
 w.ostbayern-tourismus.de/attraktionen/forstdiensthuette-hohenbogen-bewirtsc
 haftet-673f3582fe" data-cke-saved-href="https://www.ostbayern-tourismus.de/
 attraktionen/forstdiensthuette-hohenbogen-bewirtschaftet-673f3582fe">Forstd
 iensthütte</a> sein.</p>
DTSTAMP:20260425T154433
DTSTART;VALUE=DATE:20240621
DTEND;VALUE=DATE:20240622
SEQUENCE:0
TRANSP:OPAQUE
END:VEVENT
END:VCALENDAR