BEGIN:VCALENDAR
VERSION:2.0
PRODID:-//jEvents 2.0 for Joomla//EN
CALSCALE:GREGORIAN
METHOD:PUBLISH
BEGIN:VEVENT
UID:120253c388eca821a0ab05161e0b7241
CATEGORIES:Bavarian Cruiser
CREATED:20240328T184026
SUMMARY:Stammtisch
DESCRIPTION:A B G E S A G T    auf Grund der instabilen Witterung\n
X-ALT-DESC;FMTTYPE=text/html:<p>A B G E S A G T    auf Grund der instabilen Witterung</p>
DTSTAMP:20260425T134728
DTSTART;VALUE=DATE:20240505
DTEND;VALUE=DATE:20240506
SEQUENCE:0
TRANSP:OPAQUE
END:VEVENT
END:VCALENDAR