BEGIN:VCALENDAR
VERSION:2.0
PRODID:-//jEvents 2.0 for Joomla//EN
CALSCALE:GREGORIAN
METHOD:PUBLISH
BEGIN:VEVENT
UID:954889b8edcceb32fe9bf57b70ee2c3a
CATEGORIES:Schwaben Cruiser
CREATED:20240327T213634
SUMMARY:Jahresabschlusstreffen der Schwaben Cruiser
DESCRIPTION:
DTSTAMP:20260420T144832
DTSTART;VALUE=DATE:20241109
DTEND;VALUE=DATE:20241111
SEQUENCE:0
TRANSP:OPAQUE
END:VEVENT
END:VCALENDAR