BEGIN:VCALENDAR
VERSION:2.0
PRODID:-//jEvents 2.0 for Joomla//EN
CALSCALE:GREGORIAN
METHOD:PUBLISH
BEGIN:VEVENT
UID:69987fed8e83a45e737df68835f2ef7a
CATEGORIES:Schwaben Cruiser
CREATED:20240327T213345
SUMMARY:Odenwaldtreffen 2024
DESCRIPTION:
DTSTAMP:20260425T172819
DTSTART;VALUE=DATE:20240906
DTEND;VALUE=DATE:20240909
SEQUENCE:0
TRANSP:OPAQUE
END:VEVENT
END:VCALENDAR