BEGIN:VCALENDAR
VERSION:2.0
PRODID:-//jEvents 2.0 for Joomla//EN
CALSCALE:GREGORIAN
METHOD:PUBLISH
BEGIN:VEVENT
UID:f96f5c84a58ccb01ecd5eb1e83662cbf
CATEGORIES:Schwaben Cruiser
CREATED:20240327T213227
SUMMARY:Schwaben Cruiser Treffen 2024
LOCATION:Altensteig - Schwarzwald
DESCRIPTION:
DTSTAMP:20260420T211330
DTSTART;VALUE=DATE:20240726
DTEND;VALUE=DATE:20240729
SEQUENCE:0
TRANSP:OPAQUE
END:VEVENT
END:VCALENDAR