BEGIN:VCALENDAR
VERSION:2.0
PRODID:-//jEvents 2.0 for Joomla//EN
CALSCALE:GREGORIAN
METHOD:PUBLISH
BEGIN:VEVENT
UID:947a9ad77fbea97d0bd9953885db9bc1
CATEGORIES:Schwaben Cruiser
CREATED:20240327T213042
SUMMARY:Stammtisch Fichten Ranch - Hohenfels
LOCATION:Fichten Ranch Hohenfels
DESCRIPTION:
DTSTAMP:20260425T135200
DTSTART;VALUE=DATE:20240621
DTEND;VALUE=DATE:20240622
SEQUENCE:0
TRANSP:OPAQUE
END:VEVENT
END:VCALENDAR